BEGIN:VCALENDAR
VERSION:2.0
PRODID:-//Outdoor Adventure - ECPv6.8.3//NONSGML v1.0//EN
CALSCALE:GREGORIAN
METHOD:PUBLISH
X-WR-CALNAME:Outdoor Adventure
X-ORIGINAL-URL:https://in-hildesheim.eu
X-WR-CALDESC:Veranstaltungen für Outdoor Adventure
REFRESH-INTERVAL;VALUE=DURATION:PT1H
X-Robots-Tag:noindex
X-PUBLISHED-TTL:PT1H
BEGIN:VTIMEZONE
TZID:UTC
BEGIN:STANDARD
TZOFFSETFROM:+0000
TZOFFSETTO:+0000
TZNAME:UTC
DTSTART:20260101T000000
END:STANDARD
END:VTIMEZONE
BEGIN:VEVENT
DTSTART;VALUE=DATE:20260101
DTEND;VALUE=DATE:20270101
DTSTAMP:20260421T015210
CREATED:20251207T152230Z
LAST-MODIFIED:20260107T205417Z
UID:2200-1767225600-1798761599@in-hildesheim.eu
SUMMARY:800 Jahre Neustädter Markt - Bleibt informiert
DESCRIPTION:1226 erhielt die Neustadt das Marktrecht und die Gemeinde St. Lamberti wurde gegründet.\n2026 feiern wir das 800-jährige Jubiläum.\nWenn ihr auf dem Laufenden bleiben wollt über alle geplanten Veranstaltungen\, abonniert den Newsletter der Initiative Neustadt.\nBitte eine E-Mail senden an: hallo@in-hildesheim.eu\nmit dem Betreff: Newsletterabonnement. \n 
URL:https://in-hildesheim.eu/event/800-jahre-neustaedter-markt-bleibt-informiert/
CATEGORIES:800 Jahre Neustadt
ATTACH;FMTTYPE=image/jpeg:https://in-hildesheim.eu/wp-content/uploads/2025/12/800-Rueckseite.jpg
END:VEVENT
END:VCALENDAR